BEGIN:VCALENDAR
VERSION:2.0
PRODID:-//JFAS  - ECPv6.7.0//NONSGML v1.0//EN
CALSCALE:GREGORIAN
METHOD:PUBLISH
X-ORIGINAL-URL:https://jfas.rutgers.edu
X-WR-CALDESC:Events for JFAS 
REFRESH-INTERVAL;VALUE=DURATION:PT1H
X-Robots-Tag:noindex
X-PUBLISHED-TTL:PT1H
BEGIN:VTIMEZONE
TZID:America/New_York
BEGIN:DAYLIGHT
TZOFFSETFROM:-0500
TZOFFSETTO:-0400
TZNAME:EDT
DTSTART:20240310T070000
END:DAYLIGHT
BEGIN:STANDARD
TZOFFSETFROM:-0400
TZOFFSETTO:-0500
TZNAME:EST
DTSTART:20241103T060000
END:STANDARD
END:VTIMEZONE
BEGIN:VEVENT
DTSTART;TZID=America/New_York:20241204T160000
DTEND;TZID=America/New_York:20241204T170000
DTSTAMP:20260421T152303
CREATED:20241203T020548Z
LAST-MODIFIED:20241203T021223Z
UID:654-1733328000-1733331600@jfas.rutgers.edu
SUMMARY:Talk with Dr. Miriam Elman\, Executive Director of Academic Engagement Network (AEN): Asessing the Post-October 7 Campus Landscape
DESCRIPTION:Dr. Elman will speak with JFAS about the conditions impacting Jewish and openly Zionist students and faculty on U.S. campuses after October 7. She will identify current trends and the work of the Academic Engagement Network (AEN) in supporting faculty nationwide and its efforts to address antisemitism and anti-Israel bias on U.S. campuses. \nMiriam F. Elman has served since 2019 as Executive Director of the Academic Engagement Network (AEN)\, an educational nonprofit that builds nationwide networks of university faculty and administrators to counter antisemitism and advance the academy’s principles of open inquiry and free expression. \nClick here to Register
URL:https://jfas.rutgers.edu/event/talk-with-dr-miriam-elman-executive-director-of-academic-engagement-network-aen-asessing-the-post-october-7-campus-landscape/
LOCATION:Zoom
END:VEVENT
END:VCALENDAR